Workbook

Sheet 사업개요
A1: 주택건설공사 감리자 모집에 따른 사업개요
A3: 가. 사업현황 | D3: 작성일 : 2024년 07월
A4: 구 분 | B4: 내 용 | E4: 비 고
A5: 사 업 명 | B5: 인천광역시 검단지구 공동주택용지 AA28BL 공동주택 신축공사
A6: 사업주체 | B6: ㈜하나자산신탁
B7: 서울특별시 강남구 테헤란로 127, 15층(역삼동)
B8: TEL) 02-3287-4600 | C8: FAX) 02-3452-0730
A9: 설 계 자 | B9: ㈜희림종합건축사사무소
B10: 서울특별시 강동구 상일로 6길 39
B11: TEL) 02-3410-9000 | C11: FAX) 02-3410-9029
A12: 시 공 사 | B12: ㈜대우건설
B13: 서울특별시 중구 을지로 170, 에이동(을지로4가, 을지트윈타워)
B14: TEL) 02-2288-3114 | C14: FAX) 02-2288-5174
A15: 사업개요 | B15: 대지위치 : 인천광역시 검단신도시 4단계 마전동 일원
B16: 공사규모 : 지하5층, 지상20층 아파트 13개동(919세대) 및 부대복리시설
B17: 전체공사기간 : 2024. 10. ~ 2027. 11. (38개월)
B18: 대지면적 : 54,945.00㎡
B19: 건축면적 : 9,736.6814㎡
B20: 연 면 적 : 167,070.6771㎡
B21: 사업승인 : 2024.04.19. / 변경승인 : 2024.07.11.
A23: 나.총사업비 | D23: (단위 : 천원)
A24: 항 목 | C24: 금 액 | E24: 비 고
A25: 총 사 업 비 | C25: ='갑지(사업비)'!D24 -> 514298626 | D25: 천원
A26: 대 지 비 | C26: ='갑지(사업비)'!D22 -> 161408429 | D26: 천원
A27: 총 공 사 비 | C27: ='갑지(사업비)'!D14 -> 238007110 | D27: 천원
A28: 감 리 구 분
B29: 가.건축감리 대상공사비 | C29: ='갑지(사업비)'!E14 -> 215304867 | D29: 천원
B30: 나.타법감리 대상공사비 | C30: ='갑지(사업비)'!G14 -> 22702243 | D30: 천원

Sheet 갑지(사업비)
A1: 【별지 제1호 서식】
A2: 총사업비 산출 총괄표
A3: 사업명 : 인천광역시 검단지구 공동주택용지 AA28BL 공동주택 신축공사 | G3: (단위 : 천원)
A4: 구 분 | D4: 전 체 | E4: 건축감리대상 | F4: 감리제외 | G4: 타법감리
A5: 총 공사비 | B5: 순공사비 | C5: 토목공사 | D5: =+'을지(총공사비)'!D18 -> 15162856 | E5: =+D5 -> 15162856 | G5: =+D5-E5 -> 0
C6: 건축공사 | D6: =+'을지(총공사비)'!D42 -> 154695883 | E6: =+D6 -> 154695883 | G6: =+D6-E6 -> 0
C7: 기계설비공사 | D7: =+'을지(총공사비)'!D52 -> 20121236 | E7: =+D7 -> 20121236 | G7: =+D7-E7 -> 0
C8: 전기공사 | D8: =+'을지(총공사비)'!D53 -> 7001286 | E8: 0 | G8: =+D8-E8 -> 7001286
C9: 정보통신공사 | D9: =+'을지(총공사비)'!D54 -> 6188749 | E9: 0 | G9: =+D9-E9 -> 6188749
C10: 소방설비공사 | D10: =+'을지(총공사비)'!D55 -> 6841892 | E10: 0 | G10: =+D10-E10 -> 6841892
C11: 소 계 | D11: =SUM(D5:D10) -> 210011902 | E11: =SUM(E5:E10) -> 189979975 | F11: =SUM(F5:F10) -> 0 | G11: =SUM(G5:G10) -> 20031927
B12: 일반관리비 | D12: ='을지(총공사비)'!D57 -> 11662137 | E12: =TRUNC(+D12*E11/D11,0) -> 10549747 | F12: 0 | G12: =+D12-E12 -> 1112390
B13: 이 윤 | D13: ='을지(총공사비)'!D58 -> 16333071 | E13: =TRUNC(+D13*E11/D11,) -> 14775145 | F13: 0 | G13: =+D13-E13 -> 1557926
B14: 계 | D14: =SUM(D11:D13) -> 238007110 | E14: =SUM(E11:E13) -> 215304867 | F14: =SUM(F11:F13) -> 0 | G14: =SUM(G11:G13) -> 22702243
A15: 간접비 | B15: 설계비 | D15: =1606800+2350200+63000 -> 4020000 | F15: =+D15 -> 4020000
B16: 감리비 | D16: 4497300 | F16: =+D16 -> 4497300
B17: 일반분양시설 경비 | D17: 15073829 | F17: =+D17 -> 15073829
B18: 분담금 및 부담금 | D18: 42361417 | F18: =+D18 -> 42361417
B19: 보상비 | D19: 0 | F19: =+D19 -> 0
B20: 기타 사업비성 경비 | D20: 37066374 | F20: =+D20 -> 37066374
B21: 계 | D21: =SUM(D15:D20) -> 103018920 | F21: =SUM(F15:F20) -> 103018920
A22: 대 지 비 | D22: 161408429 | F22: =+D22 -> 161408429
A23: 부가가치세액 | D23: 11864167 | F23: =+D23 -> 11864167
A24: 총사업비 계 | D24: =D14+D21+D22+D23 -> 514298626 | E24: =E11+E12+E13+E21+E22+E23 -> 215304867 | F24: =F14+F21+F22+F23 -> 276291516 | G24: =G11+G12+G13+G21+G22+G23 -> 22702243
A25: 주 : 1. 순공사비란 재료비, 노무비, 경비를 합한 금액임.
A26: 2. 일반관리비와 이윤에 대한 정의 및 산정방법은 ‘원가계산에 의한 예정가격작성준칙(회계예규)’에 따름
A27: 3. 부가가치세액의 정의와 산정방법은 ‘부가가치세법’에 따름
A28: 4. 간접비란 사업비중 총공사비를 제외한 설계비, 감리비, 분양시설경비등 사업비성 경비를 말하며,
A29: 세부 비목은 다음과 같음.
A30: ● 일반분양시설경비 : 시공비, 운영비, 광고홍보비
A31: ● 분담금 및 부담금 : 인입분담금(가스, 전기, 수도, 지역난방), 진입도로, 학교용지확보 부담금
A32: ● 보상비 : 이주대책비, 이주보상비
A33: ● 기타사업비성 경비 : 제세공과금, 측량·교통·환경 영향평가 수수료, 취득세, 등록세, 건물보존등기비 및
A34: 입주관리비, 감정평가수수료, 분양·임대 및 하자보증수수료 등 기타 사업비성 경비
A35: ● 대지비 : 대지구입비, 대지구입 관련 금융비용 및 제세공과금
A36: 5. 감리대상 공사비 산정시 발코니확장공사 금액 포함 금액임.

Sheet 을지(총공사비)
A1: 【별지 제2호 서식】
D2: 공종별 총공사비 구성 현황표
A3: 사업명 : 인천광역시 검단지구 공동주택용지 AA28BL 공동주택 신축공사 | G3: (단위:천원)
A4: 구 분 | B4: 분 야 | C4: 공 종 | D4: 전 체 | E4: 건축감리 | F4: 감리제외 | G4: 타법감리
A5: 순공사비 | B5: 토목,조경 (13개공사) | C5: 토 공 사 | D5: 2478143 | E5: 2478143 | F5: 0 | G5: 0
C6: 흙막이 공사 | D6: 2163121 | E6: 2163121 | F6: 0 | G6: 0
C7: 비탈면 보호공사 | D7: 0 | E7: 0 | F7: 0 | G7: 0
C8: 옹벽공사 | D8: 0 | E8: 0 | F8: 0 | G8: 0
C9: 석축공사 | D9: 0 | E9: 0 | F9: 0 | G9: 0
C10: 우,오수공사 | D10: 1281072 | E10: 1281072 | F10: 0 | G10: 0
C11: 공동구공사 | D11: 0 | E11: 0 | F11: 0 | G11: 0
C12: 지하저수조 및 급수공사 | D12: 525029 | E12: 525029 | F12: 0 | G12: 0
C13: 도로포장공사 | D13: 420023 | E13: 420023 | F13: 0 | G13: 0
C14: 교통안전시설물공사 | D14: 105005 | E14: 105005 | F14: 0 | G14: 0
C15: 정화조시설공사 | D15: 0 | E15: 0 | F15: 0 | G15: 0
C16: 조경공사 | D16: 5880333 | E16: 5880333 | F16: 0 | G16: 0
C17: 부대시설공사 | D17: 2310130 | E17: 2310130 | F17: 0 | G17: 0
C18: 소 계 | D18: =SUM(D5:D17) -> 15162856 | E18: =SUM(E5:E17) -> 15162856 | F18: 0 | G18: 0
B19: 건축 (23개공사) | C19: 공통가설공사 | D19: 6972405 | E19: 6972405 | F19: 0 | G19: 0
C20: 가설공사 | D20: 2499141 | E20: 2499141 | F20: 0 | G20: 0
C21: 지정 및 기초공사 | D21: 7350416 | E21: 7350416 | F21: 0 | G21: 0
C22: 철골공사 | D22: 0 | E22: 0 | F22: 0 | G22: 0
C23: 철근콘크리트공사 | D23: 76235443 | E23: 76235443 | F23: 0 | G23: 0
C24: 용접공사 | D24: 0 | E24: 0 | F24: 0 | G24: 0
C25: 조적공사 | D25: 1974111 | E25: 1974111 | F25: 0 | G25: 0
C26: 미장공사 | D26: 6720380 | E26: 6720380 | F26: 0 | G26: 0
C27: 단열공사 | D27: 1785100 | E27: 1785100 | F27: 0 | G27: 0
C28: 방수, 방습공사 | D28: 3045172 | E28: 3045172 | F28: 0 | G28: 0
C29: 목 공 사 | D29: 2625148 | E29: 2625148 | F29: 0 | G29: 0
C30: 가구공사 | D30: 5418306 | E30: 5418306 | F30: 0 | G30: 0
C31: 금속공사 | D31: 2121119 | E31: 2121119 | F31: 0 | G31: 0
... C41: 잡공사 | D41: 1995112 | E41: 1995112 | F41: 0 | G41: 0
C42: 소 계 | D42: =SUM(D19:D41) -> 154695883 | E42: =SUM(E19:E41) -> 154695883 | F42: 0 | G42: 0
B43: 기계설비 (9개공사) | C43: 급수설비공사 | D43: 2205128 | E43: 2205128 | F43: 0 | G43: 0
C44: 급탕설비공사 | D44: 1260070 | E44: 1260070 | F44: 0 | G44: 0
C45: 오배수 및 통기설비공사 | D45: 1155065 | E45: 1155065 | F45: 0 | G45: 0
C46: 위생기구공사 | D46: 4620261 | E46: 4620261 | F46: 0 | G46: 0
C47: 승강기기계공사 | D47: 3620604 | E47: 3620604 | F47: 0 | G47: 0
C48: 난방설비공사 | D48: 4368246 | E48: 4368246 | F48: 0 | G48: 0
C49: 가스설비공사 | D49: 1470083 | E49: 1470083 | F49: 0 | G49: 0
C50: 자동제어설비공사 | D50: 861048 | E50: 861048 | F50: 0 | G50: 0
C51: 특수설비공사 | D51: 560731 | E51: 560731 | F51: 0 | G51: 0
C52: 소 계 | D52: =SUM(D43:D51) -> 20121236 | E52: =SUM(E43:E51) -> 20121236 | F52: 0 | G52: 0
B53: 전기공사 | D53: 7001286 | E53: 0 | F53: 0 | G53: 7001286
B54: 정보통신공사 | D54: 6188749 | E54: 0 | F54: 0 | G54: 6188749
B55: 소방설비공사 | D55: 6841892 | E55: 0 | F55: 0 | G55: 6841892
B56: 소 계 | D56: =+SUM(D52:D55,D42,D18) -> 210011902 | E56: =+SUM(E52:E55,E42,E18) -> 189979975 | F56: =+SUM(F52:F55,F42,F18) -> 0 | G56: =+SUM(G52:G55,G42,G18) -> 20031927
A57: 일반관리비 | D57: 11662137 | E57: 10549747 | F57: 0 | G57: 1112390 | K57: =J57*E61 -> 0
A58: 이 윤 | D58: 16333071 | E58: 14775145 | F58: 0 | G58: 1557926 | K58: =J58*E61 -> 0
A59: 총공사비계 | D59: =+SUM(D56:D58) -> 238007110 | E59: =+SUM(E56:E58) -> 215304867 | F59: =+SUM(F56:F58) -> 0 | G59: =+SUM(G56:G58) -> 22702243
